BEGIN:VCALENDAR
VERSION:2.0
PRODID:-//ANGA - ECPv6.3.3//NONSGML v1.0//EN
CALSCALE:GREGORIAN
METHOD:PUBLISH
X-ORIGINAL-URL:https://alnga.org
X-WR-CALDESC:Events for ANGA
REFRESH-INTERVAL;VALUE=DURATION:PT1H
X-Robots-Tag:noindex
X-PUBLISHED-TTL:PT1H
BEGIN:VTIMEZONE
TZID:UTC
BEGIN:STANDARD
TZOFFSETFROM:+0000
TZOFFSETTO:+0000
TZNAME:UTC
DTSTART:20220101T000000
END:STANDARD
END:VTIMEZONE
BEGIN:VEVENT
DTSTART;TZID=UTC:20221004T130000
DTEND;TZID=UTC:20221006T110000
DTSTAMP:20260422T064524
CREATED:20220801T131412Z
LAST-MODIFIED:20220829T203150Z
UID:10000042-1664888400-1665054000@alnga.org
SUMMARY:2022 Operations Management Round Table
DESCRIPTION:Registration will be available beginning in September.  Please remember this is only for ANGA Operators. \nOperations Management Round Table: This is an opportunity for all management levels to discuss daily issues that are entailed with daily work.  These issues may consist of but not limited to improving moral of employees; maintain standard and quality of work; hiring and training employees; tools used for metric design and reporting; processes/tools used to minimize wastage of time and materials during the installation process. \n Who Should Attend: All levels of Management that are involved with daily operations. \nBoard Meeting\, 10/4/22\, 5:00 PM \n 
URL:https://alnga.org/event/2022-operations-management-round-table-2/
LOCATION:The Hotel at Auburn University and Dixon Conference Center\, 241 South College Street\, Auburn\, 36830\, United States
GEO:32.6029913;-85.4809402
X-APPLE-STRUCTURED-LOCATION;VALUE=URI;X-ADDRESS=The Hotel at Auburn University and Dixon Conference Center 241 South College Street Auburn 36830 United States;X-APPLE-RADIUS=500;X-TITLE=241 South College Street:geo:-85.4809402,32.6029913
END:VEVENT
END:VCALENDAR