BEGIN:VCALENDAR
VERSION:2.0
PRODID:-//ANGA - ECPv6.3.3//NONSGML v1.0//EN
CALSCALE:GREGORIAN
METHOD:PUBLISH
X-ORIGINAL-URL:https://alnga.org
X-WR-CALDESC:Events for ANGA
REFRESH-INTERVAL;VALUE=DURATION:PT1H
X-Robots-Tag:noindex
X-PUBLISHED-TTL:PT1H
BEGIN:VTIMEZONE
TZID:UTC
BEGIN:STANDARD
TZOFFSETFROM:+0000
TZOFFSETTO:+0000
TZNAME:UTC
DTSTART:20230101T000000
END:STANDARD
END:VTIMEZONE
BEGIN:VEVENT
DTSTART;TZID=UTC:20230207T130000
DTEND;TZID=UTC:20230209T110000
DTSTAMP:20260422T011719
CREATED:20220801T132216Z
LAST-MODIFIED:20220829T201534Z
UID:10000043-1675774800-1675940400@alnga.org
SUMMARY:2023 Executive Management Round Table
DESCRIPTION:Registration will be available beginning in January 2023.  Please remember this is only for ANGA Operators. \nExecutive Management Round Table: This is an opportunity for the executive level management to discuss issues with organizational long-range planning and a networking opportunity to compare and contrast policies from different organizations. These issues may consist of but not limited to shaping the goals\, strategies\, objectives\, projects\, finances\, salaries\, natural gas procurement for the betterment of your company. \nWho should attend: Top Level Management (CEO\, CFO\, etc.) \n 
URL:https://alnga.org/event/2023-executive-management-round-table-2/
LOCATION:Pursell Farms\, 386 Talladega Springs Rd.\, Sylacauga\, Alabama\, 35151\, United States
GEO:33.1421013;-86.4133514
X-APPLE-STRUCTURED-LOCATION;VALUE=URI;X-ADDRESS=Pursell Farms 386 Talladega Springs Rd. Sylacauga Alabama 35151 United States;X-APPLE-RADIUS=500;X-TITLE=386 Talladega Springs Rd.:geo:-86.4133514,33.1421013
END:VEVENT
END:VCALENDAR