BEGIN:VCALENDAR
VERSION:2.0
PRODID:-//ANGA - ECPv6.3.3//NONSGML v1.0//EN
CALSCALE:GREGORIAN
METHOD:PUBLISH
X-WR-CALNAME:ANGA
X-ORIGINAL-URL:https://alnga.org
X-WR-CALDESC:Events for ANGA
REFRESH-INTERVAL;VALUE=DURATION:PT1H
X-Robots-Tag:noindex
X-PUBLISHED-TTL:PT1H
BEGIN:VTIMEZONE
TZID:UTC
BEGIN:STANDARD
TZOFFSETFROM:+0000
TZOFFSETTO:+0000
TZNAME:UTC
DTSTART:20160101T000000
END:STANDARD
END:VTIMEZONE
BEGIN:VEVENT
DTSTART;TZID=UTC:20161128T080000
DTEND;TZID=UTC:20161201T170000
DTSTAMP:20260419T124413
CREATED:20160120T160724Z
LAST-MODIFIED:20161031T160517Z
UID:10000003-1480320000-1480611600@alnga.org
SUMMARY:2016 APSC December Pipeline Safety Meeting/2nd ANGA Board Meeting
DESCRIPTION:Please mark your calendar’s to attend the December Pipeline Safety Seminar.  Registration is now available. \n2016-gps-seminar-flyer \n2016-seminar-agenda-1 \n  \n  \n 
URL:https://alnga.org/event/2016-apsc-december-pipeline-safety-meeting2nd-anga-board-meeting/
LOCATION:Embassy Suites Montgomery – Hotel & Conference Center\, 300 Tallapoosa Street\, Montgomery\, AL\, 36104\, United States
CATEGORIES:Training Conference
ORGANIZER;CN="Wallace Jones":MAILTO:wallace.jones@psc.alabama.gov
GEO:32.3795396;-86.3140274
X-APPLE-STRUCTURED-LOCATION;VALUE=URI;X-ADDRESS=Embassy Suites Montgomery – Hotel & Conference Center 300 Tallapoosa Street Montgomery AL 36104 United States;X-APPLE-RADIUS=500;X-TITLE=300 Tallapoosa Street:geo:-86.3140274,32.3795396
END:VEVENT
BEGIN:VEVENT
DTSTART;TZID=UTC:20161128T080000
DTEND;TZID=UTC:20161201T170000
DTSTAMP:20260419T124413
CREATED:20160120T160724Z
LAST-MODIFIED:20160120T160724Z
UID:10000004-1480320000-1480611600@alnga.org
SUMMARY:2016 APSC December Pipeline Safety Meeting/2nd ANGA Board Meeting
DESCRIPTION:Please mark your calendar’s to attend the December Pipeline Safety Seminar.  Registration is now available. \n2016-gps-seminar-flyer \n2016-seminar-agenda-1 \n  \n  \n 
URL:https://alnga.org/event/2016-apsc-december-pipeline-safety-meeting2nd-anga-board-meeting-3/
LOCATION:Embassy Suites Montgomery – Hotel & Conference Center\, 300 Tallapoosa Street\, Montgomery\, AL\, 36104\, United States
CATEGORIES:Training Conference
ORGANIZER;CN="Wallace Jones":MAILTO:wallace.jones@psc.alabama.gov
GEO:32.3795396;-86.3140274
X-APPLE-STRUCTURED-LOCATION;VALUE=URI;X-ADDRESS=Embassy Suites Montgomery – Hotel & Conference Center 300 Tallapoosa Street Montgomery AL 36104 United States;X-APPLE-RADIUS=500;X-TITLE=300 Tallapoosa Street:geo:-86.3140274,32.3795396
END:VEVENT
BEGIN:VEVENT
DTSTART;TZID=UTC:20190218T080000
DTEND;TZID=UTC:20190218T080000
DTSTAMP:20260419T124413
CREATED:20190102T090409Z
LAST-MODIFIED:20190102T150733Z
UID:10000018-1550476800-1550476800@alnga.org
SUMMARY:2019 ANGA Fast Track Program
DESCRIPTION:Southeast Gas will be conducting the AGA Six Pack Training sessions as described in the ANGA Fast Track Program. \nSix Pack Apprentice registration form 2019 \nThese training sessions will be held in the Dothan Office Conference Room of Southeast Gas. \nThe following are the dates of the sessions being held: \nSession #1      February 18th-22nd      Safety; Customer Service; Fundamentals of Gas Combustion\nSession #2      March 11th-15th           Fundamentals of Electricity\nSession #3      April 8th-12th                Fundamentals of Venting and Ventilation\nSession #4      May 6th-10th                 Fundamentals of Gas Controls and Gas Appliances\nSession #5       June 3rd-June 7th         International Gas Code Review  \n\nClasses begin at 8:00 a.m. and will end at 5:00 p.m. Refreshments will be provided. Lunch will be on your own.\n \nIf you have questions\, please contact the ANGA office at 256-773-1891.
URL:https://alnga.org/event/2018-anga-fast-track-program/
LOCATION:AL
CATEGORIES:Training Conference
END:VEVENT
BEGIN:VEVENT
DTSTART;TZID=UTC:20190218T080000
DTEND;TZID=UTC:20190218T080000
DTSTAMP:20260419T124413
CREATED:20190102T090409Z
LAST-MODIFIED:20190102T090409Z
UID:10000019-1550476800-1550476800@alnga.org
SUMMARY:2019 ANGA Fast Track Program
DESCRIPTION:Southeast Gas will be conducting the AGA Six Pack Training sessions as described in the ANGA Fast Track Program. \nSix Pack Apprentice registration form 2019 \nThese training sessions will be held in the Dothan Office Conference Room of Southeast Gas. \nThe following are the dates of the sessions being held: \nSession #1      February 18th-22nd      Safety; Customer Service; Fundamentals of Gas Combustion\nSession #2      March 11th-15th           Fundamentals of Electricity\nSession #3      April 8th-12th                Fundamentals of Venting and Ventilation\nSession #4      May 6th-10th                 Fundamentals of Gas Controls and Gas Appliances\nSession #5       June 3rd-June 7th         International Gas Code Review  \n\nClasses begin at 8:00 a.m. and will end at 5:00 p.m. Refreshments will be provided. Lunch will be on your own.\n \nIf you have questions\, please contact the ANGA office at 256-773-1891.
URL:https://alnga.org/event/2018-anga-fast-track-program-3/
LOCATION:AL
CATEGORIES:Training Conference
END:VEVENT
BEGIN:VEVENT
DTSTART;TZID=UTC:20190304T100000
DTEND;TZID=UTC:20190307T120000
DTSTAMP:20260419T124413
CREATED:20190121T024811Z
LAST-MODIFIED:20190121T024811Z
UID:10000023-1551693600-1551960000@alnga.org
SUMMARY:2019 ANGA Spring Seminar
DESCRIPTION:Register now!
URL:https://alnga.org/event/2019-anga-spring-seminar-3/
LOCATION:Embassy Suites-Hoover\, 2960 John Hawkins Pkwy\, Hoover\, AL\, 35244\, United States
CATEGORIES:Training Conference
ORGANIZER;CN="Nikki Frost":MAILTO:nikki.frost@magnolia-river.com
END:VEVENT
BEGIN:VEVENT
DTSTART;TZID=UTC:20190304T100000
DTEND;TZID=UTC:20190307T120000
DTSTAMP:20260419T124413
CREATED:20190121T024811Z
LAST-MODIFIED:20190121T204851Z
UID:10000022-1551693600-1551960000@alnga.org
SUMMARY:2019 ANGA Spring Seminar
DESCRIPTION:Register now!
URL:https://alnga.org/event/2019-anga-spring-seminar/
LOCATION:Embassy Suites-Hoover\, 2960 John Hawkins Pkwy\, Hoover\, AL\, 35244\, United States
CATEGORIES:Training Conference
ORGANIZER;CN="Nikki Frost":MAILTO:nikki.frost@magnolia-river.com
END:VEVENT
BEGIN:VEVENT
DTSTART;TZID=UTC:20190909T080000
DTEND;TZID=UTC:20190912T150000
DTSTAMP:20260419T124413
CREATED:20190116T100054Z
LAST-MODIFIED:20190730T143642Z
UID:10000020-1568016000-1568300400@alnga.org
SUMMARY:2019 Natural Gas Fall Workshop
DESCRIPTION:Registration is now open!! \nNatural Gas Fall Wkshp 2019-Brochure \nRegister online now
URL:https://alnga.org/event/2019-natural-gas-fall-workshop/
LOCATION:Leak City\, 807 East Sandefer Road\, Athens\, AL\, 35611\, United States
CATEGORIES:Training Conference
ORGANIZER;CN="Nikki Frost":MAILTO:nikki.frost@magnolia-river.com
END:VEVENT
BEGIN:VEVENT
DTSTART;TZID=UTC:20190909T080000
DTEND;TZID=UTC:20190912T150000
DTSTAMP:20260419T124413
CREATED:20190116T100054Z
LAST-MODIFIED:20190116T100054Z
UID:10000021-1568016000-1568300400@alnga.org
SUMMARY:2019 Natural Gas Fall Workshop
DESCRIPTION:Registration is now open!! \nNatural Gas Fall Wkshp 2019-Brochure \nRegister online now
URL:https://alnga.org/event/2019-natural-gas-fall-workshop-3/
LOCATION:Leak City\, 807 East Sandefer Road\, Athens\, AL\, 35611\, United States
CATEGORIES:Training Conference
ORGANIZER;CN="Nikki Frost":MAILTO:nikki.frost@magnolia-river.com
END:VEVENT
BEGIN:VEVENT
DTSTART;TZID=UTC:20230828T080000
DTEND;TZID=UTC:20230831T140000
DTSTAMP:20260419T124413
CREATED:20230418T142322Z
LAST-MODIFIED:20230724T171648Z
UID:10000074-1693209600-1693490400@alnga.org
SUMMARY:2023 Natural Gas Fall Workshop
DESCRIPTION:Registration now available! 
URL:https://alnga.org/event/2023-natural-gas-fall-workshop/
LOCATION:Leak City\, 807 East Sandefer Road\, Athens\, AL\, 35611\, United States
CATEGORIES:Training Conference
END:VEVENT
BEGIN:VEVENT
DTSTART;TZID=UTC:20240826T080000
DTEND;TZID=UTC:20240829T120000
DTSTAMP:20260419T124413
CREATED:20240718T150235Z
LAST-MODIFIED:20240718T150329Z
UID:10000077-1724659200-1724932800@alnga.org
SUMMARY:2024 Natural Gas Fall Workshop
DESCRIPTION:Registration now available! 
URL:https://alnga.org/event/2024-natural-gas-fall-workshop-2/
LOCATION:Leak City\, 807 East Sandefer Road\, Athens\, AL\, 35611\, United States
CATEGORIES:Training Conference
END:VEVENT
BEGIN:VEVENT
DTSTART;TZID=UTC:20250825T080000
DTEND;TZID=UTC:20250828T120000
DTSTAMP:20260419T124413
CREATED:20250804T154907Z
LAST-MODIFIED:20250804T154907Z
UID:10000084-1756108800-1756382400@alnga.org
SUMMARY:2025 Natural Gas Fall Workshop
DESCRIPTION:Registration now available! 
URL:https://alnga.org/event/2025-natural-gas-fall-workshop/
LOCATION:Leak City\, 807 East Sandefer Road\, Athens\, AL\, 35611\, United States
CATEGORIES:Training Conference
END:VEVENT
END:VCALENDAR