BEGIN:VCALENDAR
VERSION:2.0
PRODID:-//ANGA - ECPv6.3.3//NONSGML v1.0//EN
CALSCALE:GREGORIAN
METHOD:PUBLISH
X-WR-CALNAME:ANGA
X-ORIGINAL-URL:https://alnga.org
X-WR-CALDESC:Events for ANGA
REFRESH-INTERVAL;VALUE=DURATION:PT1H
X-Robots-Tag:noindex
X-PUBLISHED-TTL:PT1H
BEGIN:VTIMEZONE
TZID:UTC
BEGIN:STANDARD
TZOFFSETFROM:+0000
TZOFFSETTO:+0000
TZNAME:UTC
DTSTART:20250101T000000
END:STANDARD
END:VTIMEZONE
BEGIN:VEVENT
DTSTART;TZID=UTC:20250608T130000
DTEND;TZID=UTC:20250611T110000
DTSTAMP:20260420T180001
CREATED:20240806T155011Z
LAST-MODIFIED:20240812T153140Z
UID:10000078-1749387600-1749639600@alnga.org
SUMMARY:2025 ANGA Annual Conference
DESCRIPTION:Hyatt Regency\, Savannah\, GA\nRegistration to be released March 2025\nBoard meeting to be held 6/7 or 6/8\, 2025 \n*There is no exhibits offered at this meeting.\n*Also this is an ANGA members only meeting.
URL:https://alnga.org/event/2025-anga-annual-conference/
LOCATION:Hyatt Regency Savannah\, 2 West Bay Street\, Savannah\, GA\, 31401\, United States
GEO:32.0760804;-81.0993006
X-APPLE-STRUCTURED-LOCATION;VALUE=URI;X-ADDRESS=Hyatt Regency Savannah 2 West Bay Street Savannah GA 31401 United States;X-APPLE-RADIUS=500;X-TITLE=2 West Bay Street:geo:-81.0993006,32.0760804
END:VEVENT
BEGIN:VEVENT
DTSTART;TZID=UTC:20250825T080000
DTEND;TZID=UTC:20250828T120000
DTSTAMP:20260420T180002
CREATED:20250804T154907Z
LAST-MODIFIED:20250804T154907Z
UID:10000084-1756108800-1756382400@alnga.org
SUMMARY:2025 Natural Gas Fall Workshop
DESCRIPTION:Registration now available! 
URL:https://alnga.org/event/2025-natural-gas-fall-workshop/
LOCATION:Leak City\, 807 East Sandefer Road\, Athens\, AL\, 35611\, United States
CATEGORIES:Training Conference
END:VEVENT
BEGIN:VEVENT
DTSTART;TZID=UTC:20251202T080000
DTEND;TZID=UTC:20251204T110000
DTSTAMP:20260420T180002
CREATED:20251015T193250Z
LAST-MODIFIED:20251016T165206Z
UID:10000085-1764662400-1764846000@alnga.org
SUMMARY:38th Annual Gas Pipeline Safety Seminar
DESCRIPTION:Registration now available! \nANGA Affiliates and Board meeting to be held Monday\, 12/1/2025
URL:https://alnga.org/event/38th-annual-gas-pipeline-safety-seminar/
LOCATION:Renaissance Montgomery Hotel & Spa at the Convention Center\, 201 Tallapoosa Street\, Montgomery\, AL\, 36104\, United States
CATEGORIES:Meeting
GEO:32.3790821;-86.3120331
X-APPLE-STRUCTURED-LOCATION;VALUE=URI;X-ADDRESS=Renaissance Montgomery Hotel & Spa at the Convention Center 201 Tallapoosa Street Montgomery AL 36104 United States;X-APPLE-RADIUS=500;X-TITLE=201 Tallapoosa Street:geo:-86.3120331,32.3790821
END:VEVENT
END:VCALENDAR