BEGIN:VCALENDAR
VERSION:2.0
PRODID:-//ANGA - ECPv6.3.3//NONSGML v1.0//EN
CALSCALE:GREGORIAN
METHOD:PUBLISH
X-ORIGINAL-URL:https://alnga.org
X-WR-CALDESC:Events for ANGA
REFRESH-INTERVAL;VALUE=DURATION:PT1H
X-Robots-Tag:noindex
X-PUBLISHED-TTL:PT1H
BEGIN:VTIMEZONE
TZID:UTC
BEGIN:STANDARD
TZOFFSETFROM:+0000
TZOFFSETTO:+0000
TZNAME:UTC
DTSTART:20190101T000000
END:STANDARD
END:VTIMEZONE
BEGIN:VEVENT
DTSTART;TZID=UTC:20191016T150000
DTEND;TZID=UTC:20191018T120000
DTSTAMP:20260424T215339
CREATED:20190620T185807Z
LAST-MODIFIED:20190620T185807Z
UID:10000024-1571238000-1571400000@alnga.org
SUMMARY:2019 ANGA Management Round Table
DESCRIPTION:This meeting is for our operators and those serving on the board of directors.  We do not have exhibit space at this meeting.  Registration will be available in September. \nPlease contact the office if you have any questions\, 256-773-1891.
URL:https://alnga.org/event/2019-anga-management-round-table/
LOCATION:The Lodge at Gulf State Park\, 21196 East Beach Blvd.\, Gulf Shores\, AL\, 36542\, United States
GEO:30.2521033;-87.6659853
X-APPLE-STRUCTURED-LOCATION;VALUE=URI;X-ADDRESS=The Lodge at Gulf State Park 21196 East Beach Blvd. Gulf Shores AL 36542 United States;X-APPLE-RADIUS=500;X-TITLE=21196 East Beach Blvd.:geo:-87.6659853,30.2521033
END:VEVENT
BEGIN:VEVENT
DTSTART;TZID=UTC:20191016T150000
DTEND;TZID=UTC:20191018T120000
DTSTAMP:20260424T215339
CREATED:20190620T185807Z
LAST-MODIFIED:20190620T185807Z
UID:10000025-1571238000-1571400000@alnga.org
SUMMARY:2019 ANGA Management Round Table
DESCRIPTION:This meeting is for our operators and those serving on the board of directors.  We do not have exhibit space at this meeting.  Registration will be available in September. \nPlease contact the office if you have any questions\, 256-773-1891.
URL:https://alnga.org/event/2019-anga-management-round-table-3/
LOCATION:The Lodge at Gulf State Park\, 21196 East Beach Blvd.\, Gulf Shores\, AL\, 36542\, United States
GEO:30.2521033;-87.6659853
X-APPLE-STRUCTURED-LOCATION;VALUE=URI;X-ADDRESS=The Lodge at Gulf State Park 21196 East Beach Blvd. Gulf Shores AL 36542 United States;X-APPLE-RADIUS=500;X-TITLE=21196 East Beach Blvd.:geo:-87.6659853,30.2521033
END:VEVENT
END:VCALENDAR