BEGIN:VCALENDAR
VERSION:2.0
PRODID:-//ANGA - ECPv6.3.3//NONSGML v1.0//EN
CALSCALE:GREGORIAN
METHOD:PUBLISH
X-WR-CALNAME:ANGA
X-ORIGINAL-URL:https://alnga.org
X-WR-CALDESC:Events for ANGA
REFRESH-INTERVAL;VALUE=DURATION:PT1H
X-Robots-Tag:noindex
X-PUBLISHED-TTL:PT1H
BEGIN:VTIMEZONE
TZID:UTC
BEGIN:STANDARD
TZOFFSETFROM:+0000
TZOFFSETTO:+0000
TZNAME:UTC
DTSTART:20240101T000000
END:STANDARD
END:VTIMEZONE
BEGIN:VEVENT
DTSTART;TZID=UTC:20240304T110000
DTEND;TZID=UTC:20240307T110000
DTSTAMP:20260420T205226
CREATED:20220628T155108Z
LAST-MODIFIED:20240221T142744Z
UID:10000041-1709550000-1709809200@alnga.org
SUMMARY:2024 ANGA Spring Seminar
DESCRIPTION:Registration is now available!!  Please contact the office for a registration link if you did not receive an invitation. \nBoard Meeting\, 3/4/24\, Monday\, 4:00 PM\nCorrosion Meeting\, 3/5/24\nAffiliates Meeting\, 3/5/24 \nAs a reminder this meeting is for members only!
URL:https://alnga.org/event/2024-anga-spring-seminar-2/
LOCATION:Embassy Suites-Hoover\, 2960 John Hawkins Pkwy\, Hoover\, AL\, 35244\, United States
CATEGORIES:Meeting
ORGANIZER;CN="Nikki Frost":MAILTO:nikki.frost@magnolia-river.com
END:VEVENT
END:VCALENDAR