BEGIN:VCALENDAR
VERSION:2.0
PRODID:-//ANGA - ECPv6.3.3//NONSGML v1.0//EN
CALSCALE:GREGORIAN
METHOD:PUBLISH
X-WR-CALNAME:ANGA
X-ORIGINAL-URL:https://alnga.org
X-WR-CALDESC:Events for ANGA
REFRESH-INTERVAL;VALUE=DURATION:PT1H
X-Robots-Tag:noindex
X-PUBLISHED-TTL:PT1H
BEGIN:VTIMEZONE
TZID:UTC
BEGIN:STANDARD
TZOFFSETFROM:+0000
TZOFFSETTO:+0000
TZNAME:UTC
DTSTART:20240101T000000
END:STANDARD
END:VTIMEZONE
BEGIN:VEVENT
DTSTART;TZID=UTC:20241008T130000
DTEND;TZID=UTC:20241010T110000
DTSTAMP:20260420T081253
CREATED:20240806T162748Z
LAST-MODIFIED:20240812T153254Z
UID:10000081-1728392400-1728558000@alnga.org
SUMMARY:2024 Executive Management Round Table
DESCRIPTION:Registration will be available beginning in September 2024.  Please remember this is only for ANGA Operators. \nExecutive Management Round Table: This is an opportunity for the executive level management to discuss issues with organizational long-range planning and a networking opportunity to compare and contrast policies from different organizations. These issues may consist of but not limited to shaping the goals\, strategies\, objectives\, projects\, finances\, salaries\, natural gas procurement for the betterment of your company. \nWho should attend: Top Level Management (CEO\, CFO\, etc.) \nBoard Meeting to be held October 8\, 2024 \n 
URL:https://alnga.org/event/2024executive-management-round-table/
LOCATION:Montgomery Marriott Hotel & Conference Center at Capitol Hill\, 2500 Legends Circle\, Prattville\, AL\, 36066\, United States
END:VEVENT
END:VCALENDAR