BEGIN:VCALENDAR
VERSION:2.0
PRODID:-//ANGA - ECPv6.3.3//NONSGML v1.0//EN
CALSCALE:GREGORIAN
METHOD:PUBLISH
X-WR-CALNAME:ANGA
X-ORIGINAL-URL:https://alnga.org
X-WR-CALDESC:Events for ANGA
REFRESH-INTERVAL;VALUE=DURATION:PT1H
X-Robots-Tag:noindex
X-PUBLISHED-TTL:PT1H
BEGIN:VTIMEZONE
TZID:UTC
BEGIN:STANDARD
TZOFFSETFROM:+0000
TZOFFSETTO:+0000
TZNAME:UTC
DTSTART:20240101T000000
END:STANDARD
END:VTIMEZONE
BEGIN:VEVENT
DTSTART;TZID=UTC:20241203T080000
DTEND;TZID=UTC:20241205T110000
DTSTAMP:20260419T184310
CREATED:20241022T123745Z
LAST-MODIFIED:20241022T173740Z
UID:10000080-1733212800-1733396400@alnga.org
SUMMARY:ANGA/APSC Pipeline Safety Seminar 2024
DESCRIPTION:Registration is now available!! Click Here! \nANGA Board meeting and Affiliates meeting to be held at the Renaissance Montgomery Hotel\, Monday\, 12/2/2024. \nPlease note the dates have shifted back to Tuesday-Thursday this year!
URL:https://alnga.org/event/apsc-december-pipeline-safety-seminar-2024/
LOCATION:Renaissance Montgomery Hotel & Spa at the Convention Center\, 201 Tallapoosa Street\, Montgomery\, AL\, 36104\, United States
GEO:32.3790821;-86.3120331
X-APPLE-STRUCTURED-LOCATION;VALUE=URI;X-ADDRESS=Renaissance Montgomery Hotel & Spa at the Convention Center 201 Tallapoosa Street Montgomery AL 36104 United States;X-APPLE-RADIUS=500;X-TITLE=201 Tallapoosa Street:geo:-86.3120331,32.3790821
END:VEVENT
END:VCALENDAR