BEGIN:VCALENDAR
VERSION:2.0
PRODID:-//ANGA - ECPv6.3.3//NONSGML v1.0//EN
CALSCALE:GREGORIAN
METHOD:PUBLISH
X-WR-CALNAME:ANGA
X-ORIGINAL-URL:https://alnga.org
X-WR-CALDESC:Events for ANGA
REFRESH-INTERVAL;VALUE=DURATION:PT1H
X-Robots-Tag:noindex
X-PUBLISHED-TTL:PT1H
BEGIN:VTIMEZONE
TZID:UTC
BEGIN:STANDARD
TZOFFSETFROM:+0000
TZOFFSETTO:+0000
TZNAME:UTC
DTSTART:20250101T000000
END:STANDARD
END:VTIMEZONE
BEGIN:VEVENT
DTSTART;TZID=UTC:20250303T110000
DTEND;TZID=UTC:20250306T110000
DTSTAMP:20260419T173829
CREATED:20240806T155958Z
LAST-MODIFIED:20250122T173735Z
UID:10000079-1740999600-1741258800@alnga.org
SUMMARY:2025 ANGA Spring Seminar
DESCRIPTION:Registration is now available! \nBoard Meeting\, 3/4/2025\nCorrosion Meeting\, 3/4/25\nAffiliates Meeting\, 3/4/25 \nAs a reminder this meeting is for members only!
URL:https://alnga.org/event/2025-anga-spring-seminar/
LOCATION:Embassy Suites-Hoover\, 2960 John Hawkins Pkwy\, Hoover\, AL\, 35244\, United States
CATEGORIES:Meeting
ORGANIZER;CN="Nikki Frost":MAILTO:nikki.frost@magnolia-river.com
END:VEVENT
BEGIN:VEVENT
DTSTART;TZID=UTC:20250608T130000
DTEND;TZID=UTC:20250611T110000
DTSTAMP:20260419T173829
CREATED:20240806T155011Z
LAST-MODIFIED:20240812T153140Z
UID:10000078-1749387600-1749639600@alnga.org
SUMMARY:2025 ANGA Annual Conference
DESCRIPTION:Hyatt Regency\, Savannah\, GA\nRegistration to be released March 2025\nBoard meeting to be held 6/7 or 6/8\, 2025 \n*There is no exhibits offered at this meeting.\n*Also this is an ANGA members only meeting.
URL:https://alnga.org/event/2025-anga-annual-conference/
LOCATION:Hyatt Regency Savannah\, 2 West Bay Street\, Savannah\, GA\, 31401\, United States
GEO:32.0760804;-81.0993006
X-APPLE-STRUCTURED-LOCATION;VALUE=URI;X-ADDRESS=Hyatt Regency Savannah 2 West Bay Street Savannah GA 31401 United States;X-APPLE-RADIUS=500;X-TITLE=2 West Bay Street:geo:-81.0993006,32.0760804
END:VEVENT
BEGIN:VEVENT
DTSTART;TZID=UTC:20250825T080000
DTEND;TZID=UTC:20250828T120000
DTSTAMP:20260419T173829
CREATED:20250804T154907Z
LAST-MODIFIED:20250804T154907Z
UID:10000084-1756108800-1756382400@alnga.org
SUMMARY:2025 Natural Gas Fall Workshop
DESCRIPTION:Registration now available! 
URL:https://alnga.org/event/2025-natural-gas-fall-workshop/
LOCATION:Leak City\, 807 East Sandefer Road\, Athens\, AL\, 35611\, United States
CATEGORIES:Training Conference
END:VEVENT
BEGIN:VEVENT
DTSTART;TZID=UTC:20251202T080000
DTEND;TZID=UTC:20251204T110000
DTSTAMP:20260419T173829
CREATED:20251015T193250Z
LAST-MODIFIED:20251016T165206Z
UID:10000085-1764662400-1764846000@alnga.org
SUMMARY:38th Annual Gas Pipeline Safety Seminar
DESCRIPTION:Registration now available! \nANGA Affiliates and Board meeting to be held Monday\, 12/1/2025
URL:https://alnga.org/event/38th-annual-gas-pipeline-safety-seminar/
LOCATION:Renaissance Montgomery Hotel & Spa at the Convention Center\, 201 Tallapoosa Street\, Montgomery\, AL\, 36104\, United States
CATEGORIES:Meeting
GEO:32.3790821;-86.3120331
X-APPLE-STRUCTURED-LOCATION;VALUE=URI;X-ADDRESS=Renaissance Montgomery Hotel & Spa at the Convention Center 201 Tallapoosa Street Montgomery AL 36104 United States;X-APPLE-RADIUS=500;X-TITLE=201 Tallapoosa Street:geo:-86.3120331,32.3790821
END:VEVENT
BEGIN:VEVENT
DTSTART;TZID=UTC:20260302T100000
DTEND;TZID=UTC:20260305T110000
DTSTAMP:20260419T173829
CREATED:20251015T194136Z
LAST-MODIFIED:20251015T194136Z
UID:10000087-1772445600-1772708400@alnga.org
SUMMARY:2026 ANGA Spring Seminar
DESCRIPTION:Registration will be available January 2026! \nAffiliate and Board Meetings\, 3/2/2026\nCorrosion Meeting\, 3/3/26 \nAs a reminder this meeting is for members only!
URL:https://alnga.org/event/2026-anga-spring-seminar/
LOCATION:Embassy Suites-Hoover\, 2960 John Hawkins Pkwy\, Hoover\, AL\, 35244\, United States
CATEGORIES:Meeting
ORGANIZER;CN="Nikki Frost":MAILTO:nikki.frost@magnolia-river.com
END:VEVENT
BEGIN:VEVENT
DTSTART;TZID=UTC:20260607T130000
DTEND;TZID=UTC:20260610T110000
DTSTAMP:20260419T173829
CREATED:20251015T193751Z
LAST-MODIFIED:20260406T115434Z
UID:10000086-1780837200-1781089200@alnga.org
SUMMARY:2026 ANGA Annual Conference
DESCRIPTION:Registration available!  Contact the ANGA office for a link as this is members only!!\nBoard meeting to be held 6/6 or 6/7\, 2026 \n*There are no exhibits offered at this meeting.\n*Also this is an ANGA members only meeting.
URL:https://alnga.org/event/2026-anga-annual-conference/
LOCATION:Omni Amelia Island Resort\, 39 Beach Lagoon Road\, Amelia Island\, FL\, 32034\, United States
CATEGORIES:Annual Conference
GEO:30.5548966;-81.4445022
X-APPLE-STRUCTURED-LOCATION;VALUE=URI;X-ADDRESS=Omni Amelia Island Resort 39 Beach Lagoon Road Amelia Island FL 32034 United States;X-APPLE-RADIUS=500;X-TITLE=39 Beach Lagoon Road:geo:-81.4445022,30.5548966
END:VEVENT
BEGIN:VEVENT
DTSTART;TZID=UTC:20270613T130000
DTEND;TZID=UTC:20270616T110000
DTSTAMP:20260419T173829
CREATED:20251015T194508Z
LAST-MODIFIED:20251015T194813Z
UID:10000088-1812891600-1813143600@alnga.org
SUMMARY:2027 ANGA Annual Conference
DESCRIPTION:Save the date!! Location to be announced! \n*There are no exhibits offered at this meeting.\n*Also this is an ANGA members only meeting.
URL:https://alnga.org/event/2027-anga-annual-conference/
CATEGORIES:Annual Conference
ORGANIZER;CN="Nikki Frost":MAILTO:nikki.frost@magnolia-river.com
END:VEVENT
BEGIN:VEVENT
DTSTART;TZID=UTC:20280611T130000
DTEND;TZID=UTC:20280614T110000
DTSTAMP:20260419T173829
CREATED:20251015T194642Z
LAST-MODIFIED:20251015T194755Z
UID:10000089-1844341200-1844593200@alnga.org
SUMMARY:2028 ANGA Annual Conference
DESCRIPTION:Save the date!! Location to be announced! \n*There are no exhibits offered at this meeting.\n*Also this is an ANGA members only meeting.
URL:https://alnga.org/event/2028-anga-annual-conference/
CATEGORIES:Annual Conference
ORGANIZER;CN="Nikki Frost":MAILTO:nikki.frost@magnolia-river.com
END:VEVENT
END:VCALENDAR