BEGIN:VCALENDAR
VERSION:2.0
PRODID:-//ANGA - ECPv6.3.3//NONSGML v1.0//EN
CALSCALE:GREGORIAN
METHOD:PUBLISH
X-ORIGINAL-URL:https://alnga.org
X-WR-CALDESC:Events for ANGA
REFRESH-INTERVAL;VALUE=DURATION:PT1H
X-Robots-Tag:noindex
X-PUBLISHED-TTL:PT1H
BEGIN:VTIMEZONE
TZID:UTC
BEGIN:STANDARD
TZOFFSETFROM:+0000
TZOFFSETTO:+0000
TZNAME:UTC
DTSTART:20190101T000000
END:STANDARD
END:VTIMEZONE
BEGIN:VEVENT
DTSTART;TZID=UTC:20191203T080000
DTEND;TZID=UTC:20191206T120000
DTSTAMP:20260425T025927
CREATED:20220826T210514Z
LAST-MODIFIED:20220826T210514Z
UID:10000070-1575360000-1575633600@alnga.org
SUMMARY:2023 ANGA Spring Seminar
DESCRIPTION:Please mark your calendars for the spring seminar.  Registration will be available January 2023! \nAffiliates Meeting\, 3/7/23\, TBD\nBoard Meeting\, 3/7/23\, TBD
URL:https://alnga.org/event/2023-anga-spring-seminar/
LOCATION:Embassy Suites-Hoover\, 2960 John Hawkins Pkwy\, Hoover\, AL\, 35244\, United States
CATEGORIES:Meeting
ORGANIZER;CN="Nikki Frost":MAILTO:nikki.frost@magnolia-river.com
END:VEVENT
END:VCALENDAR