BEGIN:VCALENDAR
VERSION:2.0
PRODID:-//ANGA - ECPv6.3.3//NONSGML v1.0//EN
CALSCALE:GREGORIAN
METHOD:PUBLISH
X-WR-CALNAME:ANGA
X-ORIGINAL-URL:https://alnga.org
X-WR-CALDESC:Events for ANGA
REFRESH-INTERVAL;VALUE=DURATION:PT1H
X-Robots-Tag:noindex
X-PUBLISHED-TTL:PT1H
BEGIN:VTIMEZONE
TZID:UTC
BEGIN:STANDARD
TZOFFSETFROM:+0000
TZOFFSETTO:+0000
TZNAME:UTC
DTSTART:20200101T000000
END:STANDARD
END:VTIMEZONE
BEGIN:VEVENT
DTSTART;TZID=UTC:20200831T080000
DTEND;TZID=UTC:20200903T170000
DTSTAMP:20260425T103340
CREATED:20191021T143313Z
LAST-MODIFIED:20200616T164115Z
UID:10000028-1598860800-1599152400@alnga.org
SUMMARY:CANCELLED: 2020 Natural Gas Fall Workshop
DESCRIPTION:It is with much regret we have decided to cancel the Natural Gas Fall Workshop in Athens\, AL at the Leak City Training Facility.  With the continued uncertainties of  COVID-19\, we must take the necessary precautions to protect you and your families!  We look forward to reconvening in 2021. \nPlease let me know if you have any questions. \nStay safe and well! \nNikki Frost\nExecutive Director\nAlabama Natural Gas Association
URL:https://alnga.org/event/2020-natural-gas-fall-workshop-2/
LOCATION:Leak City\, 807 East Sandefer Road\, Athens\, AL\, 35611\, United States
END:VEVENT
END:VCALENDAR