BEGIN:VCALENDAR
VERSION:2.0
PRODID:-//ANGA - ECPv6.3.3//NONSGML v1.0//EN
CALSCALE:GREGORIAN
METHOD:PUBLISH
X-ORIGINAL-URL:https://alnga.org
X-WR-CALDESC:Events for ANGA
REFRESH-INTERVAL;VALUE=DURATION:PT1H
X-Robots-Tag:noindex
X-PUBLISHED-TTL:PT1H
BEGIN:VTIMEZONE
TZID:UTC
BEGIN:STANDARD
TZOFFSETFROM:+0000
TZOFFSETTO:+0000
TZNAME:UTC
DTSTART:20230101T000000
END:STANDARD
END:VTIMEZONE
BEGIN:VEVENT
DTSTART;TZID=UTC:20230618T130000
DTEND;TZID=UTC:20230621T130000
DTSTAMP:20260421T144515
CREATED:20220628T154840Z
LAST-MODIFIED:20230323T160953Z
UID:10000040-1687093200-1687352400@alnga.org
SUMMARY:2023 ANGA Annual Conference
DESCRIPTION:Please mark your calendars for the 2023 annual conference! \nRegistration is now available!  Email invitations were sent on 3/23/2023 at 11 AM Central time.  If you did not recieve one\, check your spam folder.  If you don’t have anything in spam\, please contact Nikki or Heather with ANGA. \nnikki.frost@magnolia-river.com or heather.romine@magnolia-river.com \nFinal Affiliates Meeting for 22/23 year\, 6/18/23 at 3:30 PM\nFinal Board Meeting for 22/23 year\, 6/18/23 at 4:00 PM
URL:https://alnga.org/event/2023-anga-annual-conference-2/
LOCATION:The Grove Park Inn Resort and Spa\, 290 Macon Avenue\, Asheville\, NC\, 28804\, United States
CATEGORIES:Annual Conference
ORGANIZER;CN="Nikki Frost":MAILTO:nikki.frost@magnolia-river.com
END:VEVENT
END:VCALENDAR