BEGIN:VCALENDAR
VERSION:2.0
PRODID:-//ANGA - ECPv6.3.3//NONSGML v1.0//EN
CALSCALE:GREGORIAN
METHOD:PUBLISH
X-ORIGINAL-URL:https://alnga.org
X-WR-CALDESC:Events for ANGA
REFRESH-INTERVAL;VALUE=DURATION:PT1H
X-Robots-Tag:noindex
X-PUBLISHED-TTL:PT1H
BEGIN:VTIMEZONE
TZID:UTC
BEGIN:STANDARD
TZOFFSETFROM:+0000
TZOFFSETTO:+0000
TZNAME:UTC
DTSTART:20240101T000000
END:STANDARD
END:VTIMEZONE
BEGIN:VEVENT
DTSTART;TZID=UTC:20240616T130000
DTEND;TZID=UTC:20240619T110000
DTSTAMP:20260420T192914
CREATED:20220803T190416Z
LAST-MODIFIED:20230727T195720Z
UID:10000044-1718542800-1718794800@alnga.org
SUMMARY:2024 ANGA Annual Conference
DESCRIPTION:Lexington Griffin Gate Marriott Golf Resort & Spa
URL:https://alnga.org/event/2024-anga-annual-conference-2/
LOCATION:Lexington Griffin Gate Marriott Golf Resort & Spa\, 1800 Newtown Pike\, Lexington\, KY\, 40511\, United States
GEO:38.0927179;-84.487067
X-APPLE-STRUCTURED-LOCATION;VALUE=URI;X-ADDRESS=Lexington Griffin Gate Marriott Golf Resort & Spa 1800 Newtown Pike Lexington KY 40511 United States;X-APPLE-RADIUS=500;X-TITLE=1800 Newtown Pike:geo:-84.487067,38.0927179
END:VEVENT
END:VCALENDAR